Workbook
Name Year: #REF!
Name Брутна_печалба: #REF!
Name Брутна_печалба: #REF!
Name Брутна_печалба: #REF!
Name Брутна_печалба: #REF!
Name Брутна_печалба: #REF!
Name Брутна_печалба: #REF!
Name Брутна_печалба: #REF!
Name Брутна_печалба: #REF!
Name Брутна_печалба: #REF!
Name Брутна_печалба: #REF!
Name Брутна_печалба: #REF!
Name Брутна_печалба: #REF!
Name Брутна_печалба: #REF!
Name Брутна_печалба: #REF!
Name Вземания_по_ДДС: #REF!
Name Вземания_по_ДДС: #REF!
Name Вземания_по_ДДС: #REF!
Name Вземания_по_ДДС: #REF!
Name Вземания_по_ДДС: #REF!
Name Вземания_по_ДДС: #REF!
Name Вземания_по_ДДС: #REF!
Name Вземания_по_ДДС: #REF!
Name Вземания_по_ДДС: #REF!
Name Вземания_по_ДДС: #REF!
Name Вземания_по_ДДС: #REF!
Name Вземания_по_ДДС: #REF!
Name Вземания_по_ДДС: #REF!
Name Вземания_по_ДДС: #REF!
Name Внесен_ДДС: #REF!
Name Внесен_ДДС: #REF!
Name Внесен_ДДС: #REF!
Name Внесен_ДДС: #REF!
Name Внесен_ДДС: #REF!
Name Внесен_ДДС: #REF!
Name Внесен_ДДС: #REF!
Name Внесен_ДДС: #REF!
Name Внесен_ДДС: #REF!
Name Внесен_ДДС: #REF!
Name Внесен_ДДС: #REF!
Name Внесен_ДДС: #REF!
Name Внесен_ДДС: #REF!
Name Внесен_ДДС: #REF!
Name ВС_1: #REF!
Name ВС_1: #REF!
Name ВС_1: #REF!
Name ВС_1: #REF!
Name ВС_1: #REF!
Name ВС_1: #REF!
Name ВС_1: #REF!
Name ВС_1: #REF!
Name ВС_1: #REF!
Name ВС_1: #REF!
Name ВС_1: #REF!
Name ВС_1: #REF!
Name ВС_1: #REF!
Name ВС_1: #REF!
Name ВС_2: #REF!
Name ВС_2: #REF!
Name ВС_2: #REF!

Sheet Приложение 
A2: Приложение към бизнес план
A3: ="на "&G8&", гр. "&G9 -> на "Водоснабдяване и канализация" ООД , гр. Враца
A4: ="ЕИК по БУЛСТАТ: " &G10 -> ЕИК по БУЛСТАТ: 816090199
A6: № | B6: Данни за В и К оператора
B7: Описание | G7: попълва се от В и К оператора
A8: 1 | B8: Наименование на В и К оператора: | G8: "Водоснабдяване и канализация" ООД
A9: 1.1 | B9: град: | G9: Враца
A10: 1.2 | B10: ЕИК по БУЛСТАТ: | G10: 816090199
A11: 2 | B11: Период на данните
A12: 2.1 | B12: Отчетна година: | G12: 2015 г.
A13: 2.2 | B13: Прогнозни години: | G13: 2016 г.
G14: 2017 г.
G15: 2018 г.
G16: 2019 г.
G17: 2020 г.
G18: 2021 г.
A19: 3 | B19: Дата на изготвяне на справките: | G19: 27.06.2016г.
A20: 4 | B20: Отговорни за изготвянето
A21: 4.1 | B21: Главен счетоводител/Фин. директор (име и фамилия): | G21: Верка Димитрова
A22: 4.2 | B22: Управител/Изп. директор (име и фамилия): | G22: Ангел Престойски
A23: 5 | B23: Опис на приложенията
A24: 5.1 | B24: Приложение 1 | G24: Общи данни за В и К оператора
B25: Справки: | G25: Справка № 1 - Анкетна карта
A26: 5.2 | B26: Приложение 2 | G26: Техническа част на бизнес плана
B27: Справки: | G27: Справка № 2 - Променливи за изчисление на показателите за качество на предоставяните В и К услуги
G28: Справка № 3 - Показатели за качество на предоставяните В и К услуги
G29: Справка № 4 - Отчет и прогнозно ниво на потребление на ВиК услугите за периода на бизнес плана
G30: Справка № 5 - Персонал
G31: Справка № 6 - Отчет и прогнозно ниво на потребление на електроенергия за периода на бизнес плана
G32: Справка № 7 - Оползотворяване на утaйки от ПСОВ
G33: Справка № 8 - Ремонтна програма
A34: 5.3 | B34: Приложение 3 | G34: Икономическа част на бизнес плана
B35: Справки: | G35: Справка № 9 - Инвестиционна програма
G36: Справка № 10 - Инвестиции и източници на финансиране
G37: Справка № 11 - Амортизационен план на Дълготрайни Активи
G38: Справка № 11.1 - Амортизация на новопридобити активи
G39: Справка № 11.2 - Новопродобити активи през отчетната година
G40: Справка № 12 - Годишни разходи
G41: Справка № 12.1 - Изменения на годишните разходи спрямо отчетната година
A42: 5.4 | B42: Приложение 4 | G42: Социална поносимост и социални дейности
...

Sheet 1. Анкетна карта
J1: Приложение № 1
A2: Справка № 1 Анкетна карта
A3: ='Приложение '!A3:J3 -> на "Водоснабдяване и канализация" ООД , гр. Враца
A4: ='Приложение '!A4:J4 -> ЕИК по БУЛСТАТ: 816090199
A6: № | B6: Данни за В и К оператора
B7: Описание | G7: попълва се от В и К оператора
A8: 1 | B8: Данни за търговското дружество
A9: 1.1 | B9: Наименование на дружеството: | G9: ='Приложение '!G8&", "&'Приложение '!G9:J9 -> "Водоснабдяване и канализация" ООД , Враца
B10: ЕИК по БУЛСТАТ: | G10: ='Приложение '!G10:J10 -> 816090199
A11: 1.3 | B11: Седалище: | G11: Враца
A12: 1.4 | B12: Адрес на управление: | G12: ул.Ал.Стамболийски 2
A13: 1.5 | B13: Дружеството се представлява от: | G13: Ангел Престойски
A14: 1.6 | B14: Рег.номер по ЗЗЛД в КЗЛД:
A15: 1.7 | B15: Рег.номер по ЗДДС, издаден на: | G15: BG816090199
A16: 1.8 | B16: В и К оператор по силата на: | G16: Р-е от 18.11.1991г.-02.12.1998г.
A17: 1.9 | B17: Съдружници/акционери; дялове | G17: Държавата-10 070 дяла-51%
G18: Община Враца-3 949 дяла-20% | J18: Криводол-3%
G19: Община Б.Слатина-1 579 дяла-8% | J19: Хаиредин-2%
G20: Община Мездра-1 185 дяла-6% | J20: Борован-2%
G21: Община Оряхово-790 дяла-4%
G22: Община Мизия-395 дяла-2%
G23: Община Роман-395 дяла-2%
A24: 2 | B24: Данни за кореспонденция
A25: 2.1 | B25: Адрес за кореспонденция: | G25: ПК:3000,гр.Враца, ул.Ал.Стамболийски 2
A26: 2.2 | B26: Лица за кореспонденция:
A27: 2.2.1 | B27: Управител/Изп.директор: | G27: Ангел Цветков Престойски
B28: сл. тел.: | G28: 092/66 12 23
B29: мобилен тел.: | G29: 0887593637
B30: факс: | G30: 092/66 09 77
B31: e-mail: | G31: vik_vratca@abv.bg
A32: 2.2.2 | B32: Гл. счетоводител/Фин.директор: | G32: Верка Димитрова Иванова
B33: сл. тел.: | G33: 092/66 98 23
B34: мобилен тел.: | G34: 0886754828
B35: факс: | G35: 092/66 09 77
B36: e-mail: | G36: vik_vratca@abv.bg
A37: 2.2.3 | B37: Гл. техник/Техн. директор: | G37: инж.Кирил Борисов Кочев
B38: сл. тел.: | G38: 092/66 98 34
B39: мобилен тел.: | G39: 0887921257
B40: факс: | G40: 092/66 09 77
B41: e-mail: | G41: vik_vratca@abv.bg
...

Sheet 2. Променливи
R1: Приложение № 2
A2: Справка № 2 Променливи за изчисление на показателите за качество на предоставяните В и К услуги
A3: ='1. Анкетна карта'!A3:J3 -> на "Водоснабдяване и канализация" ООД , гр. Враца
A4: ='1. Анкетна карта'!A4:J4 -> ЕИК по БУЛСТАТ: 816090199
A6: Група | B6: № | C6: Описание на параметъра | D6: Ед. мярка | E6: Стойност на параметъра | L6: Качество на информацията | S6: Източник на информация (регистър/база данни/друго) - описание
E7: ='Приложение '!G12 -> 2015 г. | F7: ='Приложение '!G13 -> 2016 г. | G7: ='Приложение '!G14 -> 2017 г. | H7: ='Приложение '!G15 -> 2018 г. | I7: ='Приложение '!G16 -> 2019 г. | J7: ='Приложение '!G17 -> 2020 г. | K7: ='Приложение '!G18 -> 2021 г. | L7: =E7 -> 2015 г. | M7: =F7 -> 2016 г. | N7: =G7 -> 2017 г. | O7: =H7 -> 2018 г. | P7: =I7 -> 2019 г. | Q7: =J7 -> 2020 г. | R7: =K7 -> 2021 г. | S7: =L7 -> 2015 г. | T7: =R7 -> 2021 г.
A8: Население | B8: F1 | C8: Общ брой на населението, регистрирано по постоянен адрес и ползващо услугата доставяне на вода на потребителите в обособената територия, обслужвана от ВиК оператора | D8: брой | E8: 188061 | F8: 188000 | G8: 188000 | H8: 188000 | I8: 188000 | J8: 185000 | K8: 185000 | L8: 1 | M8: 1 | N8: 1 | O8: 1 | P8: 1 | Q8: 1 | R8: 1 | S8: ЕСГР | T8: ЕСГР
B9: wE4 | C9: Брой население, регистрирано по постоянен адрес и ползващо услугата отвеждане на отпадъчни води в обособената територия, обслужвана от оператора за разглеждания период | D9: брой | E9: 106121 | F9: 106121 | G9: 106141 | H9: 106165 | I9: 106195 | J9: 106245 | K9: 106265 | L9: 2 | M9: 1 | N9: 1 | O9: 1 | P9: 1 | Q9: 1 | R9: 1 | S9: инкасо софтуер | T9: инкасо софтуер
B10: wE2 | C10: Брой население, регистрирано по постоянен адрес и ползващо услугата пречистване на отпадъчни води в обособената територия, обслужвана от оператора за разглеждания период | D10: брой | E10: 97659 | F10: 97659 | G10: 97679 | H10: 97699 | I10: 97729 | J10: 97779 | K10: 97799 | L10: 2 | M10: 1 | N10: 1 | O10: 1 | P10: 1 | Q10: 1 | R10: 1 | S10: инкасо софтуер | T10: инкасо софтуер
B11: iE5 | C11: Общ брой на населението, регистрирано по постоянен адрес в обособената територия, обслужвана от оператора (брой) | D11: брой | E11: 188772 | F11: 188500 | G11: 188500 | H11: 188500 | I11: 188500 | J11: 185500 | K11: 185500 | L11: 1 | M11: 1 | N11: 1 | O11: 1 | P11: 1 | Q11: 1 | R11: 1 | S11: ЕСГР | T11: ЕСГР
A12: Потребители | B12: E10 | C12: Общ брой потребители, обслужвани от оператора, които ползват услуга доставяне на вода на потребителите | D12: брой | E12: 80933 | F12: 75558 | G12: 78956 | H12: 78956 | I12: 78956 | J12: 78800 | K12: 78700 | L12: 1 | M12: 1 | N12: 1 | O12: 1 | P12: 1 | Q12: 1 | R12: 1 | S12: база данни | T12: база данни
C13: Общ брой потребители, обслужвани от оператора, които ползват услуга отвеждане на отпадъчни води | D13: брой | E13: 46866 | F13: 46866 | G13: 46886 | H13: 46906 | I13: 46936 | J13: 46986 | K13: 47006 | L13: 2 | M13: 1 | N13: 1 | O13: 1 | P13: 1 | Q13: 1 | R13: 1 | S13: инкасо софтуер | T13: инкасо софтуер
C14: Общ брой потребители, обслужвани от оператора, които ползват услуга пречистване на отпадъчни води | D14: брой | E14: 45310 | F14: 45310 | G14: 45330 | H14: 45350 | I14: 45380 | J14: 45430 | K14: 45450 | L14: 2 | M14: 1 | N14: 1 | O14: 1 | P14: 1 | Q14: 1 | R14: 1 | S14: инкасо софтуер | T14: инкасо софтуер
A15: Населени места | C15: Общ брой населени места в обособената територия, обслужвана от оператора за разглеждания период, в които се предоставя услугата доставяне на вода | D15: брой | E15: 118 | F15: 118 | G15: 118 | H15: 118 | I15: 118 | J15: 118 | K15: 118 | L15: 1 | M15: 1 | N15: 1 | O15: 1 | P15: 1 | Q15: 1 | R15: 1 | S15: ЕСГР | T15: ЕСГР
C16: Общ брой населени места в обособената територия, обслужвана от оператора за разглеждания период, в които се предоставя услугата отвеждане на отпадъчни води | D16: брой | E16: 6 | F16: 6 | G16: 6 | H16: 6 | I16: 6 | J16: 6 | K16: 6 | L16: 1 | M16: 1 | N16: 1 | O16: 1 | P16: 1 | Q16: 1 | R16: 1 | S16: регистър ПТО | T16: регистър ПТО
C17: Общ брой населени места в обособената територия, обслужвана от оператора за разглеждания период, в които се предоставя услугата пречистване на отпадъчни води | D17: брой | E17: 4 | F17: 4 | G17: 4 | H17: 5 | I17: 5 | J17: 5 | K17: 5 | L17: 1 | M17: 1 | N17: 1 | O17: 1 | P17: 1 | Q17: 1 | R17: 1 | S17: регистър ПТО | T17: регистър ПТО
C18: Общ брой населени места в обособената територия, обслужвана от оператора за разглеждания период | D18: брой | E18: 120 | F18: 120 | G18: 120 | H18: 120 | I18: 120 | J18: 120 | K18: 120 | L18: 1 | M18: 1 | N18: 1 | O18: 1 | P18: 1 | Q18: 1 | R18: 1 | S18: ЕСГР | T18: ЕСГР
A19: ВиК активи | C19: Общ брой водоизточници (основни и резервни) | D19: брой | E19: 180 | F19: 180 | G19: 180 | H19: 180 | I19: 180 | J19: 180 | K19: 180 | L19: 1 | M19: 1 | N19: 1 | O19: 1 | P19: 1 | Q19: 1 | R19: 1 | S19: регистър | T19: регистър
C20: Общ брой пречиствателни станции за питейни води (ПСПВ) | D20: брой | E20: 0 | F20: 0 | G20: 0 | H20: 0 | I20: 0 | J20: 0 | K20: 0 | L20: 1 | M20: 1 | N20: 1 | O20: 1 | P20: 1 | Q20: 1 | R20: 1 | S20: регистър | T20: регистър
C21: Общ брой резервоари (водоеми) | D21: брой | E21: 252 | F21: 252 | G21: 252 | H21: 252 | I21: 252 | J21: 252 | K21: 252 | L21: 1 | M21: 1 | N21: 1 | O21: 1 | P21: 1 | Q21: 1 | R21: 1 | S21: регистър | T21: регистър
C22: Общ брой водоснабдителни помпени станции (ВПС) | D22: брой | E22: 134 | F22: 134 | G22: 134 | H22: 134 | I22: 134 | J22: 134 | K22: 134 | L22: 1 | M22: 1 | N22: 1 | O22: 1 | P22: 1 | Q22: 1 | R22: 1 | S22: регистър | T22: регистър
B23: C8 | C23: Обща дължина на довеждащите водопроводи и разпределителната водопроводна мрежа. В изчисляването на дължината на водопроводната мрежа не се включва дължината на сградните водопроводни отклонения. | D23: км | E23: 2834 | F23: 2834 | G23: 2834 | H23: 2834 | I23: 2834 | J23: 2834 | K23: 2834 | L23: 1 | M23: 1 | N23: 1 | O23: 1 | P23: 1 | Q23: 1 | R23: 1 | S23: регистър | T23: регистър
B24: iC8 | C24: Обща дължина на довеждащите водопроводи и разпределителната водопроводна мрежа. В изчисляването на дължината на водопроводната мрежа не се включва дължината на сградните водопроводни отклонения, както и дължината на водопроводите, по които се довежда вода до друг оператор, само в случаите когато се използват единствено за тази цел. | D24: км | E24: 2851 | F24: 2851 | G24: 2851 | H24: 2851 | I24: 2851 | J24: 2851 | K24: 2851 | L24: 1 | M24: 1 | N24: 1 | O24: 1 | P24: 1 | Q24: 1 | R24: 1 | S24: регистър | T24: регистър
B25: iDMAt | C25: Общ брой на водомерни зони в обслужваната от ВиК оператора територия. | D25: брой | E25: 124 | F25: 124 | G25: 124 | H25: 124 | I25: 124 | J25: 124 | K25: 124 | S25: база данни | T25: база данни
B26: C24 | C26: Общ брой на сградните водопроводни отклонения | D26: брой | E26: 95640 | F26: 95640 | G26: 95640 | H26: 95640 | I26: 95640 | J26: 95640 | K26: 95640 | L26: 1 | M26: 1 | N26: 1 | O26: 1 | P26: 1 | Q26: 1 | R26: 1 | S26: регистър | T26: регистър
B27: iE6 | C27: Общ брой водомери на СВО (средства за измерване). | D27: брой | E27: 95365 | F27: 95465 | G27: 95565 | H27: 95640 | I27: 95640 | J27: 95640 | K27: 95640 | L27: 1 | M27: 1 | N27: 1 | O27: 1 | P27: 1 | Q27: 1 | R27: 1 | S27: регистър | T27: регистър
B28: C29 | C28: Общ брой на сградните канализационни отклонения | D28: брой | E28: 8330 | F28: 8220 | G28: 12330 | H28: 18350 | I28: 22150 | J28: 25450 | K28: 30000 | L28: 1 | M28: 1 | N28: 1 | O28: 1 | P28: 1 | Q28: 1 | R28: 1 | S28: регистър ПТО | T28: регистър ПТО
B29: wC1 | C29: Обща дължина на канализационната мрежа, експлоатирана от ВиК оператора | D29: км | E29: 270 | F29: 280 | G29: 270 | H29: 280 | I29: 280 | J29: 280 | K29: 280 | L29: 1 | M29: 1 | N29: 1 | O29: 1 | P29: 1 | Q29: 1 | R29: 1 | S29: регистър ПТО | T29: регистър ПТО
C30: Общ брой канализационни помпени станции (КПС) | D30: брой | E30: 3 | F30: 3 | G30: 5 | H30: 5 | I30: 5 | J30: 5 | K30: 5 | L30: 1 | M30: 1 | N30: 1 | O30: 1 | P30: 1 | Q30: 1 | R30: 1 | S30: регистър ПТО | T30: регистър ПТО
C31: Общ брой пречиствателни станции за отпадъчни води (ПСОВ) | D31: брой | E31: 4 | F31: 4 | G31: 4 | H31: 5 | I31: 5 | J31: 5 | K31: 5 | L31: 1 | M31: 1 | N31: 1 | O31: 1 | P31: 1 | Q31: 1 | R31: 1 | S31: регистър ПТО | T31: регистър ПТО
A32: Качество на питейната вода - големи зони на водоснабдяване | B32: iD51a | C32: Общ брой на направените анализи за качество на питейните води в големи зони на водоснабдяване за отчетната година, които отговарят на изискванията на приложимите стандарти или законови разпоредби. | D32: брой | E32: =SUM(E33:E36) -> 7100 | F32: =SUM(F33:F36) -> 8471 | G32: =SUM(G33:G36) -> 7102 | H32: =SUM(H33:H36) -> 8468 | I32: =SUM(I33:I36) -> 7125 | J32: =SUM(J33:J36) -> 8468 | K32: =SUM(K33:K36) -> 7103 | L32: =MAX(L33,L34,L35,L36) -> 1 | M32: =MAX(M33,M34,M35,M36) -> 1 | N32: =MAX(N33,N34,N35,N36) -> 1 | O32: =MAX(O33,O34,O35,O36) -> 1 | P32: =MAX(P33,P34,P35,P36) -> 1 | Q32: =MAX(Q33,Q34,Q35,Q36) -> 1 | R32: =MAX(R33,R34,R35,R36) -> 1 | S32: регистър лабораторни изследвания | T32: регистър лабораторни изследвания
B33: iD62a | C33: Общ брой анализи за показатели с индикаторно значение за качеството на питейната вода, отговарящи на нормативните изисквания, в големи зони на водоснабдяване; | D33: брой | E33: 3124 | F33: 3736 | G33: 3124 | H33: 3736 | I33: 3124 | J33: 3736 | K33: 3124 | L33: 1 | M33: 1 | N33: 1 | O33: 1 | P33: 1 | Q33: 1 | R33: 1 | S33: регистър лабораторни изследвания | T33: регистър лабораторни изследвания
B34: iD63a | C34: Общ брой анализи по микробиологични показатели за качество на питейната вода, отговарящи на нормативните изисквания, в големи зони на водоснабдяване; | D34: брой | E34: 672 | F34: 810 | G34: 672 | H34: 810 | I34: 672 | J34: 810 | K34: 672 | L34: 1 | M34: 1 | N34: 1 | O34: 1 | P34: 1 | Q34: 1 | R34: 1 | S34: регистър лабораторни изследвания | T34: регистър лабораторни изследвания
B35: iD64a | C35: Общ брой анализи по физико-химични показатели за качество на питейната вода, отговарящи на нормативните изисквания, в големи зони на водоснабдяване; | D35: брой | E35: 3304 | F35: 3922 | G35: 3304 | H35: 3922 | I35: 3304 | J35: 3922 | K35: 3304 | L35: 1 | M35: 1 | N35: 1 | O35: 1 | P35: 1 | Q35: 1 | R35: 1 | S35: регистър лабораторни изследвания | T35: регистър лабораторни изследвания
B36: iD65a | C36: Общ брой анализи по радиоактивни показатели за качество на питейната вода, отговарящи на нормативните изисквания, в големи зони на водоснабдяване. | D36: брой | E36: 0 | F36: 3 | G36: 2 | H36: 0 | I36: 25 | J36: 0 | K36: 3 | L36: 1 | M36: 1 | N36: 1 | O36: 1 | P36: 1 | Q36: 1 | R36: 1 | S36: регистър лабораторни изследвания | T36: регистър лабораторни изследвания
B37: D51a | C37: Общ брой на направените анализи за качество на питейните води в големи зони на водоснабдяване, с изключение на анализите, които показват отклонения, разрешени по реда на наредбата по чл. 135, т. 3 от Закона за водите. | D37: брой | E37: =SUM(E38:E41) -> 7100 | F37: =SUM(F38:F41) -> 8471 | G37: =SUM(G38:G41) -> 7102 | H37: =SUM(H38:H41) -> 8468 | I37: =SUM(I38:I41) -> 7125 | J37: =SUM(J38:J41) -> 8468 | K37: =SUM(K38:K41) -> 7103 | L37: =MAX(L38,L39,L40,L41) -> 1 | M37: =MAX(M38,M39,M40,M41) -> 1 | N37: =MAX(N38,N39,N40,N41) -> 1 | O37: =MAX(O38,O39,O40,O41) -> 1 | P37: =MAX(P38,P39,P40,P41) -> 1 | Q37: =MAX(Q38,Q39,Q40,Q41) -> 1 | R37: =MAX(R38,R39,R40,R41) -> 1 | S37: регистър лабораторни изследвания | T37: регистър лабораторни изследвания
B38: D62a | C38: Общ брой анализи за показатели с индикаторно значение за качеството на питейната вода в големи зони на водоснабдяване; | D38: брой | E38: 3124 | F38: 3736 | G38: 3124 | H38: 3736 | I38: 3124 | J38: 3736 | K38: 3124 | L38: 1 | M38: 1 | N38: 1 | O38: 1 | P38: 1 | Q38: 1 | R38: 1 | S38: регистър лабораторни изследвания | T38: регистър лабораторни изследвания
B39: D63a | C39: Общ брой анализи по микробиологични показатели за качество на питейната вода в големи зони на водоснабдяване; | D39: брой | E39: 672 | F39: 810 | G39: 672 | H39: 810 | I39: 672 | J39: 810 | K39: 672 | L39: 1 | M39: 1 | N39: 1 | O39: 1 | P39: 1 | Q39: 1 | R39: 1 | S39: регистър лабораторни изследвания | T39: регистър лабораторни изследвания
B40: D64a | C40: Общ брой анализи по физико-химични показатели за качество на питейната вода в големи зони на водоснабдяване; | D40: брой | E40: 3304 | F40: 3922 | G40: 3304 | H40: 3922 | I40: 3304 | J40: 3922 | K40: 3304 | L40: 1 | M40: 1 | N40: 1 | O40: 1 | P40: 1 | Q40: 1 | R40: 1 | S40: регистър лабораторни изследвания | T40: регистър лабораторни изследвания
B41: D65a | C41: Общ брой анализи по радиоактивни показатели за качество на питейната вода в големи зони на водоснабдяване. | D41: брой | E41: 0 | F41: 3 | G41: 2 | H41: 0 | I41: 25 | J41: 0 | K41: 3 | L41: 1 | M41: 1 | N41: 1 | O41: 1 | P41: 1 | Q41: 1 | R41: 1 | S41: регистър лабораторни изследвания | T41: регистър лабораторни изследвания
...

Sheet 3. Показатели за качество
L1: ='2. Променливи'!R1:R1 -> Приложение № 2
A2: Справка № 3 Показатели за качество на предоставяните В и К услуги
A3: ='1. Анкетна карта'!A3:J3 -> на "Водоснабдяване и канализация" ООД , гр. Враца
A4: ='1. Анкетна карта'!A4:J4 -> ЕИК по БУЛСТАТ: 816090199
A6: № | B6: ПК | C6: Параметър | D6: Ед. мярка | E6: ='Приложение '!$G12 -> 2015 г. | F6: ='Приложение '!$G13 -> 2016 г. | G6: ='Приложение '!$G14 -> 2017 г. | H6: ='Приложение '!$G15 -> 2018 г. | I6: ='Приложение '!$G16 -> 2019 г. | J6: ='Приложение '!$G17 -> 2020 г. | K6: ='Приложение '!$G18 -> 2021 г. | L6: ="Качество на информацията за " &'Приложение '!G12 -> Качество на информацията за 2015 г. | M6: ="Качество на информацията за " &'Приложение '!G18 -> Качество на информацията за 2021 г. | N6: Индивидуална цел за 2021 г. | O6: Дългосрочно ниво
A7: 1 | B7: ПК1 | C7: Ниво на покритие с водоснабдителни услуги | D7: % | E7: ='2. Променливи'!E8/'2. Променливи'!E11 -> 0.99623355 | F7: ='2. Променливи'!F8/'2. Променливи'!F11 -> 0.99734748 | G7: ='2. Променливи'!G8/'2. Променливи'!G11 -> 0.99734748 | H7: ='2. Променливи'!H8/'2. Променливи'!H11 -> 0.99734748 | I7: ='2. Променливи'!I8/'2. Променливи'!I11 -> 0.99734748 | J7: ='2. Променливи'!J8/'2. Променливи'!J11 -> 0.99730458 | K7: ='2. Променливи'!K8/'2. Променливи'!K11 -> 0.99730458 | L7: 1 | M7: 1 | N7: 1 | O7: 0.99
A8: 2 | B8: ПК2а | C8: Качество на питейната вода в големи зони на водоснабдяване | D8: % | E8: ='2. Променливи'!E32/'2. Променливи'!E37 -> 1 | F8: ='2. Променливи'!F32/'2. Променливи'!F37 -> 1 | G8: ='2. Променливи'!G32/'2. Променливи'!G37 -> 1 | H8: ='2. Променливи'!H32/'2. Променливи'!H37 -> 1 | I8: ='2. Променливи'!I32/'2. Променливи'!I37 -> 1 | J8: ='2. Променливи'!J32/'2. Променливи'!J37 -> 1 | K8: ='2. Променливи'!K32/'2. Променливи'!K37 -> 1 | L8: 1 | M8: 1 | N8: 1 | O8: 0.99
A9: 3 | B9: ПК2б | C9: Качество на питейната вода в малки зони на водоснабдяване | D9: % | E9: ='2. Променливи'!E42/'2. Променливи'!E47 -> 0.99657951 | F9: ='2. Променливи'!F42/'2. Променливи'!F47 -> 0.95027013 | G9: ='2. Променливи'!G42/'2. Променливи'!G47 -> 0.95001708 | H9: ='2. Променливи'!H42/'2. Променливи'!H47 -> 0.95050385 | I9: ='2. Променливи'!I42/'2. Променливи'!I47 -> 0.95040295 | J9: ='2. Променливи'!J42/'2. Променливи'!J47 -> 0.95018749 | K9: ='2. Променливи'!K42/'2. Променливи'!K47 -> 0.95001518 | L9: 1 | M9: 1 | N9: 1 | O9: 0.98
A10: 4 | B10: ПК2в | C10: Мониторинг на качеството на питейната вода | D10: % | E10: ='2. Променливи'!E52/'2. Променливи'!E53 -> 1 | F10: ='2. Променливи'!F52/'2. Променливи'!F53 -> 1 | G10: ='2. Променливи'!G52/'2. Променливи'!G53 -> 1 | H10: ='2. Променливи'!H52/'2. Променливи'!H53 -> 1 | I10: ='2. Променливи'!I52/'2. Променливи'!I53 -> 1 | J10: ='2. Променливи'!J52/'2. Променливи'!J53 -> 1 | K10: ='2. Променливи'!K52/'2. Променливи'!K53 -> 1 | L10: 1 | M10: 1 | N10: 1 | O10: 1
A11: 5 | B11: ПК3 | C11: Непрекъснатост на водоснабдяването | D11: съотношение | E11: ='2. Променливи'!E56/('2. Променливи'!E8*24*365)*1000 -> 0 | F11: ='2. Променливи'!F56/('2. Променливи'!F8*24*365)*1000 -> 0 | G11: ='2. Променливи'!G56/('2. Променливи'!G8*24*365)*1000 -> 0 | H11: ='2. Променливи'!H56/('2. Променливи'!H8*24*365)*1000 -> 0 | I11: ='2. Променливи'!I56/('2. Променливи'!I8*24*365)*1000 -> 0 | J11: ='2. Променливи'!J56/('2. Променливи'!J8*24*365)*1000 -> 0 | K11: ='2. Променливи'!K56/('2. Променливи'!K8*24*365)*1000 -> 0 | L11: 1 | M11: 1 | N11: 1 | O11: 8
A12: 6 | B12: ПК4а | C12: Общи загуби на вода във водоснабдителните системи | D12: м3/км/ден | E12: ='2. Променливи'!E63/'2. Променливи'!E24/365 -> 14.416591 | F12: ='2. Променливи'!F63/'2. Променливи'!F24/365 -> 13.713333 | G12: ='2. Променливи'!G63/'2. Променливи'!G24/365 -> 14.220975 | H12: ='2. Променливи'!H63/'2. Променливи'!H24/365 -> 14.220975 | I12: ='2. Променливи'!I63/'2. Променливи'!I24/365 -> 14.220975 | J12: ='2. Променливи'!J63/'2. Променливи'!J24/365 -> 13.304152 | K12: ='2. Променливи'!K63/'2. Променливи'!K24/365 -> 12.247565 | L12: 1 | M12: 1 | N12: 1 | O12: 15
A13: 7 | B13: ПК4б | C13: Общи загуби на вода във водоснабдителните системи | D13: % | E13: ='2. Променливи'!E63/'2. Променливи'!E61 -> 0.65606159 | F13: ='2. Променливи'!F63/'2. Променливи'!F61 -> 0.64850261 | G13: ='2. Променливи'!G63/'2. Променливи'!G61 -> 0.63783144 | H13: ='2. Променливи'!H63/'2. Променливи'!H61 -> 0.63783144 | I13: ='2. Променливи'!I63/'2. Променливи'!I61 -> 0.63783144 | J13: ='2. Променливи'!J63/'2. Променливи'!J61 -> 0.62929545 | K13: ='2. Променливи'!K63/'2. Променливи'!K61 -> 0.62019465 | L13: 1 | M13: 1 | N13: 1 | O13: 0.49
A14: 8 | B14: ПК5 | C14: Аварии по водопроводната мрежа | D14: бр/100км/год | E14: ='2. Променливи'!E57/'2. Променливи'!E23*100 -> 114.14961 | F14: ='2. Променливи'!F57/'2. Променливи'!F23*100 -> 112.91461 | G14: ='2. Променливи'!G57/'2. Променливи'!G23*100 -> 138.07339 | H14: ='2. Променливи'!H57/'2. Променливи'!H23*100 -> 138.07339 | I14: ='2. Променливи'!I57/'2. Променливи'!I23*100 -> 138.07339 | J14: ='2. Променливи'!J57/'2. Променливи'!J23*100 -> 123.50035 | K14: ='2. Променливи'!K57/'2. Променливи'!K23*100 -> 123.50035 | L14: 1 | M14: 1 | N14: 1 | O14: 60
A15: 9 | B15: ПК6a | C15: Налягане във водоснабдителната система | D15: % | E15: ='2. Променливи'!E71/'2. Променливи'!E25 -> 0 | F15: ='2. Променливи'!F71/'2. Променливи'!F25 -> 0 | G15: ='2. Променливи'!G71/'2. Променливи'!G25 -> 0 | H15: ='2. Променливи'!H71/'2. Променливи'!H25 -> 0 | I15: ='2. Променливи'!I71/'2. Променливи'!I25 -> 0 | J15: ='2. Променливи'!J71/'2. Променливи'!J25 -> 0 | K15: ='2. Променливи'!K71/'2. Променливи'!K25 -> 0 | L15: 1 | M15: 1 | N15: 1 | O15: 1
A16: 10 | B16: ПК7а | C16: Ниво на покритие с услуги по отвеждане на отпадъчни води | D16: % | E16: ='2. Променливи'!E9/'2. Променливи'!E11 -> 0.56216494 | F16: ='2. Променливи'!F9/'2. Променливи'!F11 -> 0.56297613 | G16: ='2. Променливи'!G9/'2. Променливи'!G11 -> 0.56308223 | H16: ='2. Променливи'!H9/'2. Променливи'!H11 -> 0.56320955 | I16: ='2. Променливи'!I9/'2. Променливи'!I11 -> 0.5633687 | J16: ='2. Променливи'!J9/'2. Променливи'!J11 -> 0.57274933 | K16: ='2. Променливи'!K9/'2. Променливи'!K11 -> 0.57285714 | L16: 1 | M16: 1 | N16: 1 | O16: 0.75
A17: 11 | B17: ПК7б | C17: Ниво на покритие с услуги по пречистване на отпадъчни води | D17: % | E17: ='2. Променливи'!E10/'2. Променливи'!E11 -> 0.51733838 | F17: ='2. Променливи'!F10/'2. Променливи'!F11 -> 0.51808488 | G17: ='2. Променливи'!G10/'2. Променливи'!G11 -> 0.51819098 | H17: ='2. Променливи'!H10/'2. Променливи'!H11 -> 0.51829708 | I17: ='2. Променливи'!I10/'2. Променливи'!I11 -> 0.51845623 | J17: ='2. Променливи'!J10/'2. Променливи'!J11 -> 0.52711051 | K17: ='2. Променливи'!K10/'2. Променливи'!K11 -> 0.52721833 | L17: 1 | M17: 1 | N17: 1 | O17: 0.75
A18: 12 | B18: ПК8 | C18: Качество на отпадъчните води | D18: % | E18: ='2. Променливи'!E54/'2. Променливи'!E55 -> #DIV/0! | F18: ='2. Променливи'!F54/'2. Променливи'!F55 -> #DIV/0! | G18: ='2. Променливи'!G54/'2. Променливи'!G55 -> #DIV/0! | H18: ='2. Променливи'!H54/'2. Променливи'!H55 -> #DIV/0! | I18: ='2. Променливи'!I54/'2. Променливи'!I55 -> #DIV/0! | J18: ='2. Променливи'!J54/'2. Променливи'!J55 -> #DIV/0! | K18: ='2. Променливи'!K54/'2. Променливи'!K55 -> #DIV/0! | L18: 1 | M18: 1 | N18: 1 | O18: 0.93
A19: 13 | B19: ПК9 | C19: Аварии на канализационната мрежа | D19: бр/100км/год | E19: =('2. Променливи'!E58+'2. Променливи'!E59+'2. Променливи'!E60)/'2. Променливи'!E29*100 -> 112.59259 | F19: =('2. Променливи'!F58+'2. Променливи'!F59+'2. Променливи'!F60)/'2. Променливи'!F29*100 -> 142.85714 | G19: =('2. Променливи'!G58+'2. Променливи'!G59+'2. Променливи'!G60)/'2. Променливи'!G29*100 -> 112.96296 | H19: =('2. Променливи'!H58+'2. Променливи'!H59+'2. Променливи'!H60)/'2. Променливи'!H29*100 -> 105.35714 | I19: =('2. Променливи'!I58+'2. Променливи'!I59+'2. Променливи'!I60)/'2. Променливи'!I29*100 -> 87.857143 | J19: =('2. Променливи'!J58+'2. Променливи'!J59+'2. Променливи'!J60)/'2. Променливи'!J29*100 -> 86.428571 | K19: =('2. Променливи'!K58+'2. Променливи'!K59+'2. Променливи'!K60)/'2. Променливи'!K29*100 -> 84.285714 | L19: 1 | M19: 1 | N19: 1 | O19: 120
A20: 14 | B20: ПК10 | C20: Наводнения в имоти на трети лица, причинени от канализацията | D20: бр/10 000 потреб | E20: ='2. Променливи'!E103/'2. Променливи'!E12*10000 -> 0 | F20: ='2. Променливи'!F103/'2. Променливи'!F12*10000 -> 0 | G20: ='2. Променливи'!G103/'2. Променливи'!G12*10000 -> 0 | H20: ='2. Променливи'!H103/'2. Променливи'!H12*10000 -> 0 | I20: ='2. Променливи'!I103/'2. Променливи'!I12*10000 -> 0 | J20: ='2. Променливи'!J103/'2. Променливи'!J12*10000 -> 0 | K20: ='2. Променливи'!K103/'2. Променливи'!K12*10000 -> 0 | L20: 1 | M20: 1 | N20: 1 | O20: 0.5
A21: 15 | B21: ПК11а | C21: Енергийна ефективност за дейността по доставяне на вода на потребителите | D21: кВч/м3 | E21: ='2. Променливи'!E78/'2. Променливи'!E61 -> 0.50412504 | F21: ='2. Променливи'!F78/'2. Променливи'!F61 -> 0.51631784 | G21: ='2. Променливи'!G78/'2. Променливи'!G61 -> 0.48919536 | H21: ='2. Променливи'!H78/'2. Променливи'!H61 -> 0.48919536 | I21: ='2. Променливи'!I78/'2. Променливи'!I61 -> 0.48919536 | J21: ='2. Променливи'!J78/'2. Променливи'!J61 -> 0.51590909 | K21: ='2. Променливи'!K78/'2. Променливи'!K61 -> 0.55231144 | L21: 1 | M21: 1 | N21: 1 | O21: 0.45
A22: 16 | B22: ПК11б | C22: Енергийна ефективност за дейността по пречистване на отпадъчни води | D22: кВч/м3 | E22: ='2. Променливи'!E79/'2. Променливи'!E64 -> 0.1492829 | F22: ='2. Променливи'!F79/'2. Променливи'!F64 -> 0.13368709 | G22: ='2. Променливи'!G79/'2. Променливи'!G64 -> 0.15425433 | H22: ='2. Променливи'!H79/'2. Променливи'!H64 -> 0.14808672 | I22: ='2. Променливи'!I79/'2. Променливи'!I64 -> 0.14808672 | J22: ='2. Променливи'!J79/'2. Променливи'!J64 -> 0.14808672 | K22: ='2. Променливи'!K79/'2. Променливи'!K64 -> 0.14808672 | L22: 1 | M22: 1 | N22: 1 | O22: 0.25
A23: 17 | B23: ПК11в | C23: Оползотворяване на утайките от ПСОВ | D23: % | E23: ='2. Променливи'!E80/'2. Променливи'!E81 -> 1 | F23: ='2. Променливи'!F80/'2. Променливи'!F81 -> 0.28688525 | G23: ='2. Променливи'!G80/'2. Променливи'!G81 -> 1 | H23: ='2. Променливи'!H80/'2. Променливи'!H81 -> 1 | I23: ='2. Променливи'!I80/'2. Променливи'!I81 -> 1 | J23: ='2. Променливи'!J80/'2. Променливи'!J81 -> 1 | K23: ='2. Променливи'!K80/'2. Променливи'!K81 -> 1 | L23: 1 | M23: 1 | N23: 1 | O23: 1
A24: 18 | B24: ПК11г | C24: Рехабилитация на водопроводната мрежа | D24: % | E24: ='2. Променливи'!E76/'2. Променливи'!E23 -> 0.020465773 | F24: ='2. Променливи'!F76/'2. Променливи'!F23 -> 0.019407198 | G24: ='2. Променливи'!G76/'2. Променливи'!G23 -> 0.019760056 | H24: ='2. Променливи'!H76/'2. Променливи'!H23 -> 0.019407198 | I24: ='2. Променливи'!I76/'2. Променливи'!I23 -> 0.018701482 | J24: ='2. Променливи'!J76/'2. Променливи'!J23 -> 0.018348624 | K24: ='2. Променливи'!K76/'2. Променливи'!K23 -> 0.017642908 | L24: 1 | M24: 1 | N24: 1 | O24: 0.0125
A25: 19 | B25: ПК11д | C25: Активен контрол на течовете | D25: % | E25: ='2. Променливи'!E77/'2. Променливи'!E23 -> 0.038814397 | F25: ='2. Променливи'!F77/'2. Променливи'!F23 -> 0.035285815 | G25: ='2. Променливи'!G77/'2. Променливи'!G23 -> 0.031757234 | H25: ='2. Променливи'!H77/'2. Променливи'!H23 -> 0.028228652 | I25: ='2. Променливи'!I77/'2. Променливи'!I23 -> 0.024700071 | J25: ='2. Променливи'!J77/'2. Променливи'!J23 -> 0.021171489 | K25: ='2. Променливи'!K77/'2. Променливи'!K23 -> 0.012350035 | L25: 1 | M25: 1 | N25: 1 | O25: 0.0125
A26: 20 | B26: ПК12а | C26: Ефективност на разходите за услугата доставяне на вода на потребителите | D26: съотношение | E26: ='2. Променливи'!E82/'2. Променливи'!E83 -> 0.99983147 | F26: ='2. Променливи'!F82/'2. Променливи'!F83 -> 1.0649582 | G26: ='2. Променливи'!G82/'2. Променливи'!G83 -> 1.0724592 | H26: ='2. Променливи'!H82/'2. Променливи'!H83 -> 1.0718921 | I26: ='2. Променливи'!I82/'2. Променливи'!I83 -> 1.0716292 | J26: ='2. Променливи'!J82/'2. Променливи'!J83 -> 1.0711375 | K26: ='2. Променливи'!K82/'2. Променливи'!K83 -> 1.0678919 | L26: 1 | M26: 1 | N26: 1 | O26: 1.1
A27: 21 | B27: ПК12б | C27: Ефективност на разходите за услугата отвеждане на отпадъчни води | D27: съотношение | E27: ='2. Променливи'!E84/'2. Променливи'!E85 -> 1.2900717 | F27: ='2. Променливи'!F84/'2. Променливи'!F85 -> 1.3814306 | G27: ='2. Променливи'!G84/'2. Променливи'!G85 -> 1.2636665 | H27: ='2. Променливи'!H84/'2. Променливи'!H85 -> 1.2281109 | I27: ='2. Променливи'!I84/'2. Променливи'!I85 -> 1.1972609 | J27: ='2. Променливи'!J84/'2. Променливи'!J85 -> 1.1835008 | K27: ='2. Променливи'!K84/'2. Променливи'!K85 -> 1.1638643 | L27: 1 | M27: 1 | N27: 1 | O27: 1.1
A28: 22 | B28: ПК12в | C28: Ефективност на разходите за услугата пречистване на отпадъчни води | D28: съотношение | E28: ='2. Променливи'!E86/'2. Променливи'!E87 -> 1.5305524 | F28: ='2. Променливи'!F86/'2. Променливи'!F87 -> 1.3104537 | G28: ='2. Променливи'!G86/'2. Променливи'!G87 -> 1.0353331 | H28: ='2. Променливи'!H86/'2. Променливи'!H87 -> 1.0617209 | I28: ='2. Променливи'!I86/'2. Променливи'!I87 -> 1.0597918 | J28: ='2. Променливи'!J86/'2. Променливи'!J87 -> 1.0565641 | K28: ='2. Променливи'!K86/'2. Променливи'!K87 -> 1.0563573 | L28: 1 | M28: 1 | N28: 1 | O28: 1.1
A29: 23 | B29: ПК12г | C29: Събираемост | D29: % | E29: =('2. Променливи'!E88-('2. Променливи'!E89-'2. Променливи'!E90))/('2. Променливи'!E88+'2. Променливи'!E90) -> 0.85737344 | F29: =('2. Променливи'!F88-('2. Променливи'!F89-'2. Променливи'!F90))/('2. Променливи'!F88+'2. Променливи'!F90) -> 0.85063228 | G29: =('2. Променливи'!G88-('2. Променливи'!G89-'2. Променливи'!G90))/('2. Променливи'!G88+'2. Променливи'!G90) -> 0.85846654 | H29: =('2. Променливи'!H88-('2. Променливи'!H89-'2. Променливи'!H90))/('2. Променливи'!H88+'2. Променливи'!H90) -> 0.86857571 | I29: =('2. Променливи'!I88-('2. Променливи'!I89-'2. Променливи'!I90))/('2. Променливи'!I88+'2. Променливи'!I90) -> 0.86867458 | J29: =('2. Променливи'!J88-('2. Променливи'!J89-'2. Променливи'!J90))/('2. Променливи'!J88+'2. Променливи'!J90) -> 0.86876969 | K29: =('2. Променливи'!K88-('2. Променливи'!K89-'2. Променливи'!K90))/('2. Променливи'!K88+'2. Променливи'!K90) -> 0.86888737 | L29: 1 | M29: 1 | N29: 1 | O29: 0.95
A30: 24 | B30: ПК12д | C30: Ефективност на привеждане на водомерите в годност | D30: % | E30: ='2. Променливи'!E72/'2. Променливи'!E27 -> 0.081895874 | F30: ='2. Променливи'!F72/'2. Променливи'!F27 -> 0.083789871 | G30: ='2. Променливи'!G72/'2. Променливи'!G27 -> 0.086276356 | H30: ='2. Променливи'!H72/'2. Променливи'!H27 -> 0.088864492 | I30: ='2. Променливи'!I72/'2. Променливи'!I27 -> 0.090966123 | J30: ='2. Променливи'!J72/'2. Променливи'!J27 -> 0.092283563 | K30: ='2. Променливи'!K72/'2. Променливи'!K27 -> 0.094102886 | L30: 1 | M30: 1 | N30: 1 | O30: 0.2
A31: 25 | B31: ПК12е | C31: Ефективност на изграждане на водомерното стопанство | D31: % | E31: ='2. Променливи'!E73/'2. Променливи'!E27 -> 0.40350233 | F31: ='2. Променливи'!F73/'2. Променливи'!F27 -> 0.48688001 | G31: ='2. Променливи'!G73/'2. Променливи'!G27 -> 0.57264689 | H31: ='2. Променливи'!H73/'2. Променливи'!H27 -> 0.66107277 | I31: ='2. Променливи'!I73/'2. Променливи'!I27 -> 0.66960477 | J31: ='2. Променливи'!J73/'2. Променливи'!J27 -> 0.67901506 | K31: ='2. Променливи'!K73/'2. Променливи'!K27 -> 0.68947093 | L31: 1 | M31: 1 | N31: 1 | O31: 0.9
A32: 26 | B32: ПК13 | C32: Срок за отговор на писмени жалби на потребителите | D32: % | E32: ='2. Променливи'!E91/'2. Променливи'!E95 -> 1 | F32: ='2. Променливи'!F91/'2. Променливи'!F95 -> 1 | G32: ='2. Променливи'!G91/'2. Променливи'!G95 -> 1 | H32: ='2. Променливи'!H91/'2. Променливи'!H95 -> 1 | I32: ='2. Променливи'!I91/'2. Променливи'!I95 -> 1 | J32: ='2. Променливи'!J91/'2. Променливи'!J95 -> 1 | K32: ='2. Променливи'!K91/'2. Променливи'!K95 -> 1 | L32: 1 | M32: 1 | N32: 1 | O32: 1
A33: 27 | B33: ПК14а | C33: Присъединяване към водоснабдителната система | D33: % | E33: ='2. Променливи'!E107/'2. Променливи'!E108 -> 0.34513274 | F33: ='2. Променливи'!F107/'2. Променливи'!F108 -> 1 | G33: ='2. Променливи'!G107/'2. Променливи'!G108 -> 0.39130435 | H33: ='2. Променливи'!H107/'2. Променливи'!H108 -> 0.52380952 | I33: ='2. Променливи'!I107/'2. Променливи'!I108 -> 0.33035714 | J33: ='2. Променливи'!J107/'2. Променливи'!J108 -> 0.30188679 | K33: ='2. Променливи'!K107/'2. Променливи'!K108 -> 0.33333333 | L33: 1 | M33: 1 | N33: 1 | O33: 1
A34: 28 | B34: ПК14б | C34: Присъединяване към канализационната система | D34: % | E34: ='2. Променливи'!E109/'2. Променливи'!E110 -> 0.28571429 | F34: ='2. Променливи'!F109/'2. Променливи'!F110 -> 1 | G34: ='2. Променливи'!G109/'2. Променливи'!G110 -> 0.52941176 | H34: ='2. Променливи'!H109/'2. Променливи'!H110 -> 0.525 | I34: ='2. Променливи'!I109/'2. Променливи'!I110 -> 0.45238095 | J34: ='2. Променливи'!J109/'2. Променливи'!J110 -> 0.48888889 | K34: ='2. Променливи'!K109/'2. Променливи'!K110 -> 0.5 | L34: 1 | M34: 1 | N34: 1 | O34: 1
A35: 29 | B35: ПК15а | C35: Ефективност на персонала за услугата доставяне на вода на потребителите | D35: бр/1 000 СВО | E35: ='2. Променливи'!E111/'2. Променливи'!E26*1000 -> 4.5064826 | F35: ='2. Променливи'!F111/'2. Променливи'!F26*1000 -> 4.5169385 | G35: ='2. Променливи'!G111/'2. Променливи'!G26*1000 -> 4.5901297 | H35: ='2. Променливи'!H111/'2. Променливи'!H26*1000 -> 4.7469678 | I35: ='2. Променливи'!I111/'2. Променливи'!I26*1000 -> 4.7469678 | J35: ='2. Променливи'!J111/'2. Променливи'!J26*1000 -> 4.7469678 | K35: ='2. Променливи'!K111/'2. Променливи'!K26*1000 -> 4.9038059 | L35: 1 | M35: 1 | N35: 1 | O35: 4
A36: 30 | B36: ПК15б | C36: Ефективност на персонала за услугите отвеждане и пречистване | D36: бр/1 000 СКО | E36: ='2. Променливи'!E112/'2. Променливи'!E28*1000 -> 6.8427371 | F36: ='2. Променливи'!F112/'2. Променливи'!F28*1000 -> 6.9343066 | G36: ='2. Променливи'!G112/'2. Променливи'!G28*1000 -> 6.4882401 | H36: ='2. Променливи'!H112/'2. Променливи'!H28*1000 -> 4.359673 | I36: ='2. Променливи'!I112/'2. Променливи'!I28*1000 -> 3.9277652 | J36: ='2. Променливи'!J112/'2. Променливи'!J28*1000 -> 3.5756385 | K36: ='2. Променливи'!K112/'2. Променливи'!K28*1000 -> 3.1 | L36: 1 | M36: 1 | N36: 1 | O36: 3
C41: ='2. Променливи'!C117 -> Дата: 27.06.2016г.
E42: ='2. Променливи'!E115 -> Главен счетоводител: | G42: ..............................................
H43: (попис)
F46: ='2. Променливи'!F118 -> Управител: | G46: ..............................................
A47: Указания за попълване на справката: | H47: (подпис и печат)
...

Sheet 4. Отчет и прогн. потребление
J1: Приложение № 2
A2: Справка № 4 Отчет и прогнозно ниво на потребление на В и К услугите за периода на бизнес плана
A5: ='1. Анкетна карта'!A3:J3 -> на "Водоснабдяване и канализация" ООД , гр. Враца
A6: ='1. Анкетна карта'!A4:J4 -> ЕИК по БУЛСТАТ: 816090199
A8: № | B8: Описание | C8: Мярка | D8: ='Приложение '!$G12 -> 2015 г. | E8: ='Приложение '!$G13 -> 2016 г. | F8: ='Приложение '!$G14 -> 2017 г. | G8: ='Приложение '!$G15 -> 2018 г. | H8: ='Приложение '!$G16 -> 2019 г. | I8: ='Приложение '!$G17 -> 2020 г. | J8: ='Приложение '!$G18 -> 2021 г.
A9: І. | B9: Доставяне на вода на потребители
A10: 1. | B10: Общо количество вода на входа на системата A3/Q4 | C10: м3/год | D10: =D11+D12+D13+D14-D15-D16-D17-D18 -> 22866940 | E10: =E11+E12+E13+E14-E15-E16-E17-E18 -> 22005000 | F10: =F11+F12+F13+F14-F15-F16-F17-F18 -> 23201365 | G10: =G11+G12+G13+G14-G15-G16-G17-G18 -> 23201365 | H10: =H11+H12+H13+H14-H15-H16-H17-H18 -> 23201365 | I10: =I11+I12+I13+I14-I15-I16-I17-I18 -> 22000000 | J10: =J11+J12+J13+J14-J15-J16-J17-J18 -> 20550000
A11: 1.1 | B11: Добита сурова вода от повърхностни водоизточници | C11: м3/год | D11: 0 | E11: 0 | F11: 0 | G11: 0 | H11: 0 | I11: 0 | J11: 0
A12: 1.2 | B12: Добита сурова вода от подземни водоизточници | C12: м3/год | D12: 1694404 | E12: 1709000 | F12: 1719221 | G12: 1719221 | H12: 1719221 | I12: 1500000 | J12: 1000000
A13: 1.3 | B13: Подадена сурова вода от друг ВиК оператор/доставчик | C13: м3/год | D13: 0 | E13: 0 | F13: 0 | G13: 0 | H13: 0 | I13: 0 | J13: 0
A14: 1.4 | B14: Подадена пречистена вода от друг ВиК оператор / доставчик | C14: м3/год | D14: 21172536 | E14: 20296000 | F14: 21482144 | G14: 21482144 | H14: 21482144 | I14: 20500000 | J14: 19550000
A15: 1.5 | B15: Продадена сурова вода на друг ВиК оператор | C15: м3/год | D15: 0 | E15: 0 | F15: 0 | G15: 0 | H15: 0 | I15: 0 | J15: 0
A16: 1.6 | B16: Загуби при доставяне сурова вода на друг ВиК оператор | C16: м3/год | D16: 0 | E16: 0 | F16: 0 | G16: 0 | H16: 0 | I16: 0 | J16: 0
A17: 1.7 | B17: Продадена пречистена вода на друг ВиК оператор | C17: м3/год | D17: 0 | E17: 0 | F17: 0 | G17: 0 | H17: 0 | I17: 0 | J17: 0
A18: 1.8 | B18: Загуби при доставяне пречистена вода на друг ВиК оператор | C18: м3/год | D18: 0 | E18: 0 | F18: 0 | G18: 0 | H18: 0 | I18: 0 | J18: 0
A19: 2 | B19: Обща законна консумация iA14/Q5 | C19: м3/год | D19: =D21+D31 -> 8230690 | E19: =E21+E31 -> 8092700 | F19: =F21+F31 -> 8804987 | G19: =G21+G31 -> 8804987 | H19: =H21+H31 -> 8804987 | I19: =I21+I31 -> 8485500 | J19: =J21+J31 -> 8055000
C20: % | D20: =D19/D10 -> 0.35993841 | E20: =E19/E10 -> 0.36776642 | F20: =F19/F10 -> 0.37950297 | G20: =G19/G10 -> 0.37950297 | H20: =H19/H10 -> 0.37950297 | I20: =I19/I10 -> 0.38570455 | J20: =J19/J10 -> 0.3919708
A21: 2.1 | B21: Продадена фактурирана вода Q3 | C21: м3/год | D21: =D23+D27 -> 7864819 | E21: =E23+E27 -> 7734700 | F21: =F23+F27 -> 8402805 | G21: =G23+G27 -> 8402805 | H21: =H23+H27 -> 8402805 | I21: =I23+I27 -> 8155500 | J21: =J23+J27 -> 7805000
C22: % | D22: =D21/D10 -> 0.34393841 | E22: =E21/E10 -> 0.35149739 | F22: =F21/F10 -> 0.36216856 | G22: =G21/G10 -> 0.36216856 | H22: =H21/H10 -> 0.36216856 | I22: =I21/I10 -> 0.37070455 | J22: =J21/J10 -> 0.37980535
A23: 2.1.1 | B23: Фактурирана измерена консумация на вода Q3.1 | C23: м3/год | D23: =SUM(D24:D26) -> 7864819 | E23: =SUM(E24:E26) -> 7734700 | F23: =SUM(F24:F26) -> 8402805 | G23: =SUM(G24:G26) -> 8402805 | H23: =SUM(H24:H26) -> 8402805 | I23: =SUM(I24:I26) -> 8155500 | J23: =SUM(J24:J26) -> 7805000
A24: 2.1.1.1 | B24: битови потребители | C24: м3/год | D24: 5871435 | E24: 5523000 | F24: 6273065 | G24: 6273065 | H24: 6273065 | I24: 6150500 | J24: 5900000
A25: 2.1.1.2 | B25: обществени и търговски потребители | C25: м3/год | D25: 1937404 | E25: 2158000 | F25: 2069930 | G25: 2069930 | H25: 2069930 | I25: 1950000 | J25: 1850000
A26: 2.1.1.3 | B26: стопански потребители | C26: м3/год | D26: 55980 | E26: 53700 | F26: 59810 | G26: 59810 | H26: 59810 | I26: 55000 | J26: 55000
A27: 2.1.2 | B27: Фактурирана неизмерена консумация на вода Q3.2 | C27: м3/год | D27: =SUM(D28:D30) -> 0 | E27: =SUM(E28:E30) -> 0 | F27: =SUM(F28:F30) -> 0 | G27: =SUM(G28:G30) -> 0 | H27: =SUM(H28:H30) -> 0 | I27: =SUM(I28:I30) -> 0 | J27: =SUM(J28:J30) -> 0
A28: 2.1.2.1 | B28: битови потребители | C28: м3/год | D28: 0 | E28: 0 | F28: 0 | G28: 0 | H28: 0 | I28: 0 | J28: 0
A29: 2.1.2.2 | B29: обществени и търговски потребители | C29: м3/год | D29: 0 | E29: 0 | F29: 0 | G29: 0 | H29: 0 | I29: 0 | J29: 0
A30: 2.1.2.3 | B30: стопански потребители | C30: м3/год | D30: 0 | E30: 0 | F30: 0 | G30: 0 | H30: 0 | I30: 0 | J30: 0
A31: 2.2 | B31: Подадена нефактурирана вода A13(Q3A) | C31: м3/год | D31: =D33+D34 -> 365871 | E31: =E33+E34 -> 358000 | F31: =F33+F34 -> 402182 | G31: =G33+G34 -> 402182 | H31: =H33+H34 -> 402182 | I31: =I33+I34 -> 330000 | J31: =J33+J34 -> 250000
C32: % | D32: =D31/D10 -> 0.015999998 | E32: =E31/E10 -> 0.01626903 | F32: =F31/F10 -> 0.017334411 | G32: =G31/G10 -> 0.017334411 | H32: =H31/H10 -> 0.017334411 | I32: =I31/I10 -> 0.015 | J32: =J31/J10 -> 0.01216545
A33: 2.2.1 | B33: Нефактурирана измерена консумация на вода Q3A.1 | C33: м3/год | D33: 0 | E33: 0 | F33: 0 | G33: 0 | H33: 0 | I33: 0 | J33: 0
A34: 2.2.2 | B34: Нефактурирана неизмерена консумация на вода Q3A.2 | C34: м3/год | D34: 365871 | E34: 358000 | F34: 402182 | G34: 402182 | H34: 402182 | I34: 330000 | J34: 250000
A35: 3 | B35: Общи загуби на вода A15(Q6) | C35: м3/год | D35: =D38+D42 -> 14636250 | E35: =E38+E42 -> 13912300 | F35: =F38+F42 -> 14396378 | G35: =G38+G42 -> 14396378 | H35: =H38+H42 -> 14396378 | I35: =I38+I42 -> 13514500 | J35: =J38+J42 -> 12495000
C36: % | D36: =D35/D10 -> 0.64006159 | E36: =E35/E10 -> 0.63223358 | F36: =F35/F10 -> 0.62049703 | G36: =G35/G10 -> 0.62049703 | H36: =H35/H10 -> 0.62049703 | I36: =I35/I10 -> 0.61429545 | J36: =J35/J10 -> 0.6080292
C37: м3/км/ден | D37: =D35/'2. Променливи'!E24/365 -> 14.065 | E37: =E35/'2. Променливи'!F24/365 -> 13.369306 | F37: =F35/'2. Променливи'!G24/365 -> 13.83449 | G37: =G35/'2. Променливи'!H24/365 -> 13.83449 | H37: =H35/'2. Променливи'!I24/365 -> 13.83449 | I37: =I35/'2. Променливи'!J24/365 -> 12.987032 | J37: =J35/'2. Променливи'!K24/365 -> 12.007323
A38: 3.1 | B38: Търговски загуби на вода Q8 | C38: м3/год | D38: =D40+D41 -> 415621 | E38: =E40+E41 -> 402000 | F38: =F40+F41 -> 435560 | G38: =G40+G41 -> 435560 | H38: =H40+H41 -> 435560 | I38: =I40+I41 -> 300000 | J38: =J40+J41 -> 200000
C39: % | D39: =D38/D10 -> 0.018175628 | E39: =E38/E10 -> 0.018268575 | F39: =F38/F10 -> 0.018773033 | G39: =G38/G10 -> 0.018773033 | H39: =H38/H10 -> 0.018773033 | I39: =I38/I10 -> 0.013636364 | J39: =J38/J10 -> 0.0097323601
A40: 3.1.1 | B40: Незаконно ползване Q8.1 | C40: м3/год | D40: 0 | E40: 0 | F40: 0 | G40: 0 | H40: 0 | I40: 0 | J40: 0
A41: 3.1.2 | B41: Неточност при измерване Q8.2 | C41: м3/год | D41: 415621 | E41: 402000 | F41: 435560 | G41: 435560 | H41: 435560 | I41: 300000 | J41: 200000
A42: 3.2 | B42: Реални загуби на вода Q7 | C42: м3/год | D42: =SUM(D44:D47) -> 14220629 | E42: =SUM(E44:E47) -> 13510300 | F42: =SUM(F44:F47) -> 13960818 | G42: =SUM(G44:G47) -> 13960818 | H42: =SUM(H44:H47) -> 13960818 | I42: =SUM(I44:I47) -> 13214500 | J42: =SUM(J44:J47) -> 12295000
C43: % | D43: =D42/D10 -> 0.62188596 | E43: =E42/E10 -> 0.61396501 | F43: =F42/F10 -> 0.60172399 | G43: =G42/G10 -> 0.60172399 | H43: =H42/H10 -> 0.60172399 | I43: =I42/I10 -> 0.60065909 | J43: =J42/J10 -> 0.59829684
...

Sheet 5. Персонал
AC1: Приложение № 2
A2: Справка № 5 Персонал
A3: Персонал
A4: ='1. Анкетна карта'!A3 -> на "Водоснабдяване и канализация" ООД , гр. Враца
A5: ='1. Анкетна карта'!A4 -> ЕИК по БУЛСТАТ: 816090199
A7: № | B7: Наименование | C7: Регулирана дейност | X7: Нерегулирана дейност | AE7: Доставяне на вода за друг ВиКО | AL7: Доставяне на вода с непитейни качества | AS7: ОБЩО
C8: Доставяне на вода на потребителите | J8: Отвеждане на отпадъчните води | Q8: Пречистване на отпадъчните води
C9: ='Приложение '!G12 -> 2015 г. | D9: ='Приложение '!G13 -> 2016 г. | E9: ='Приложение '!G14 -> 2017 г. | F9: ='Приложение '!G15 -> 2018 г. | G9: ='Приложение '!G16 -> 2019 г. | H9: ='Приложение '!G17 -> 2020 г. | I9: ='Приложение '!G18 -> 2021 г. | J9: =C9 -> 2015 г. | K9: =D9 -> 2016 г. | L9: =E9 -> 2017 г. | M9: =F9 -> 2018 г. | N9: =G9 -> 2019 г. | O9: =H9 -> 2020 г. | P9: =I9 -> 2021 г. | Q9: =J9 -> 2015 г. | ... AR9: =AK9 -> 2021 г. | AS9: =X9 -> 2015 г. | AT9: =Y9 -> 2016 г. | AU9: =Z9 -> 2017 г. | AV9: =AA9 -> 2018 г. | AW9: =AB9 -> 2019 г. | AX9: =AC9 -> 2020 г. | AY9: =AD9 -> 2021 г.
A10: 1 | B10: Брой служители
A11: 1.1. | B11: Средносписъчен брой трудов договор | C11: 428 | D11: 428 | E11: 435 | F11: 450 | G11: 450 | H11: 450 | I11: 465 | J11: 28 | K11: 28 | L11: 30 | M11: 30 | N11: 32 | O11: 33 | P11: 35 | Q11: 29 | R11: 29 | S11: 50 | T11: 50 | U11: 55 | V11: 58 | W11: 58 | X11: 13 | Y11: 13 | Z11: 14 | AA11: 14 | AB11: 15 | AC11: 15 | AD11: 15 | AE11: 0 | AF11: 1 | AG11: 1 | AH11: 1 | AI11: 1 | AJ11: 1 | AK11: 1 | AL11: 3 | AM11: 3 | AN11: 3 | AO11: 3 | AP11: 3 | AQ11: 3 | AR11: 3 | AS11: =C11+J11+Q11+X11+AE11+AL11 -> 501 | AT11: =D11+K11+R11+Y11+AF11+AM11 -> 502 | AU11: =E11+L11+S11+Z11+AG11+AN11 -> 533 | AV11: =F11+M11+T11+AA11+AH11+AO11 -> 548 | AW11: =G11+N11+U11+AB11+AI11+AP11 -> 556 | AX11: =H11+O11+V11+AC11+AJ11+AQ11 -> 560 | AY11: =I11+P11+W11+AD11+AK11+AR11 -> 577
A12: 1.2. | B12: Средносписъчен брой лица без трудов договор | C12: 0 | D12: 0 | E12: 0 | F12: 0 | G12: 0 | H12: 0 | I12: 0 | J12: 0 | K12: 0 | L12: 0 | M12: 0 | N12: 0 | O12: 0 | P12: 0 | Q12: 0 | R12: 0 | S12: 0 | T12: 0 | U12: 0 | V12: 0 | W12: 0 | X12: 0 | Y12: 0 | Z12: 0 | AA12: 0 | AB12: 0 | AC12: 0 | AD12: 0 | AE12: 0 | AF12: 0 | AG12: 0 | AH12: 0 | AI12: 0 | AJ12: 0 | AK12: 0 | AL12: 0 | AM12: 0 | AN12: 0 | AO12: 0 | AP12: 0 | AQ12: 0 | AR12: 0 | AS12: =C12+J12+Q12+X12+AE12+AL12 -> 0 | AT12: =D12+K12+R12+Y12+AF12+AM12 -> 0 | AU12: =E12+L12+S12+Z12+AG12+AN12 -> 0 | AV12: =F12+M12+T12+AA12+AH12+AO12 -> 0 | AW12: =G12+N12+U12+AB12+AI12+AP12 -> 0 | AX12: =H12+O12+V12+AC12+AJ12+AQ12 -> 0 | AY12: =I12+P12+W12+AD12+AK12+AR12 -> 0
A13: 1.3. | B13: Брой лица по щатно разписание | C13: 428 | D13: 428 | E13: 435 | F13: 450 | G13: 450 | H13: 450 | I13: 465 | J13: 28 | K13: 28 | L13: 30 | M13: 30 | N13: 32 | O13: 33 | P13: 35 | Q13: 29 | R13: 29 | S13: 50 | T13: 50 | U13: 55 | V13: 58 | W13: 58 | X13: 13 | Y13: 13 | Z13: 14 | AA13: 14 | AB13: 15 | AC13: 15 | AD13: 15 | AE13: 0 | AF13: 1 | AG13: 1 | AH13: 1 | AI13: 1 | AJ13: 1 | AK13: 1 | AL13: 3 | AM13: 3 | AN13: 3 | AO13: 3 | AP13: 3 | AQ13: 3 | AR13: 3 | AS13: =C13+J13+Q13+X13+AE13+AL13 -> 501 | AT13: =D13+K13+R13+Y13+AF13+AM13 -> 502 | AU13: =E13+L13+S13+Z13+AG13+AN13 -> 533 | AV13: =F13+M13+T13+AA13+AH13+AO13 -> 548 | AW13: =G13+N13+U13+AB13+AI13+AP13 -> 556 | AX13: =H13+O13+V13+AC13+AJ13+AQ13 -> 560 | AY13: =I13+P13+W13+AD13+AK13+AR13 -> 577
A14: 1.4. | B14: Общ брой служители на заетост, еквивалентна пълна заетост (ЕПЗ) | C14: =C11+C12 -> 428 | D14: =D11+D12 -> 428 | E14: =E11+E12 -> 435 | F14: =F11+F12 -> 450 | G14: =G11+G12 -> 450 | H14: =H11+H12 -> 450 | I14: =I11+I12 -> 465 | J14: =J11+J12 -> 28 | ... AR14: =AR11+AR12 -> 3 | AS14: =C14+J14+Q14+X14+AE14+AL14 -> 501 | AT14: =D14+K14+R14+Y14+AF14+AM14 -> 502 | AU14: =E14+L14+S14+Z14+AG14+AN14 -> 533 | AV14: =F14+M14+T14+AA14+AH14+AO14 -> 548 | AW14: =G14+N14+U14+AB14+AI14+AP14 -> 556 | AX14: =H14+O14+V14+AC14+AJ14+AQ14 -> 560 | AY14: =I14+P14+W14+AD14+AK14+AR14 -> 577
A15: 2.1 | B15: Разходи за възнаграждения без граждански договори, хил.лв. | C15: ='12. Разходи'!C58+'12. Разходи'!C59 -> 3178 | D15: ='12. Разходи'!D58+'12. Разходи'!D59 -> 3598 | E15: ='12. Разходи'!E58+'12. Разходи'!E59 -> 4955 | F15: ='12. Разходи'!F58+'12. Разходи'!F59 -> 5139 | G15: ='12. Разходи'!G58+'12. Разходи'!G59 -> 5139 | H15: ='12. Разходи'!H58+'12. Разходи'!H59 -> 5139 | I15: ='12. Разходи'!I58+'12. Разходи'!I59 -> 5716 | J15: ='12. Разходи'!J58+'12. Разходи'!J59 -> 351 | ... AD15: ='12. Разходи'!AD58+'12. Разходи'!AD59 -> 132 | AE15: 0 | AF15: 0 | AG15: 0 | AH15: 0 | AI15: 0 | AJ15: 0 | AK15: 0 | AL15: 0 | AM15: 0 | AN15: 0 | AO15: 0 | AP15: 0 | AQ15: 0 | AR15: 0 | AS15: =C15+J15+Q15+X15+AE15+AL15 -> 3839 | AT15: =D15+K15+R15+Y15+AF15+AM15 -> 4335 | AU15: =E15+L15+S15+Z15+AG15+AN15 -> 5970 | AV15: =F15+M15+T15+AA15+AH15+AO15 -> 6216 | AW15: =G15+N15+U15+AB15+AI15+AP15 -> 6323 | AX15: =H15+O15+V15+AC15+AJ15+AQ15 -> 6415 | AY15: =I15+P15+W15+AD15+AK15+AR15 -> 7020
A16: 2.2 | B16: Разходи за социални осигуровки, хил.лв. | C16: ='12. Разходи'!C62+'12. Разходи'!C63 -> 567 | D16: ='12. Разходи'!D62+'12. Разходи'!D63 -> 689 | E16: ='12. Разходи'!E62+'12. Разходи'!E63 -> 893 | F16: ='12. Разходи'!F62+'12. Разходи'!F63 -> 895 | G16: ='12. Разходи'!G62+'12. Разходи'!G63 -> 925 | H16: ='12. Разходи'!H62+'12. Разходи'!H63 -> 925 | I16: ='12. Разходи'!I62+'12. Разходи'!I63 -> 1029 | J16: ='12. Разходи'!J62+'12. Разходи'!J63 -> 99 | ... AD16: ='12. Разходи'!AD62+'12. Разходи'!AD63 -> 24 | AE16: 0 | AF16: 0 | AG16: 0 | AH16: 0 | AI16: 0 | AJ16: 0 | AK16: 0 | AL16: 0 | AM16: 0 | AN16: 0 | AO16: 0 | AP16: 0 | AQ16: 0 | AR16: 0 | AS16: =C16+J16+Q16+X16+AE16+AL16 -> 729 | AT16: =D16+K16+R16+Y16+AF16+AM16 -> 834 | AU16: =E16+L16+S16+Z16+AG16+AN16 -> 1076 | AV16: =F16+M16+T16+AA16+AH16+AO16 -> 1089 | AW16: =G16+N16+U16+AB16+AI16+AP16 -> 1138 | AX16: =H16+O16+V16+AC16+AJ16+AQ16 -> 1155 | AY16: =I16+P16+W16+AD16+AK16+AR16 -> 1264
A17: 2.3 | B17: Социални разходи, хил.лв. | C17: ='12. Разходи'!C64+'12. Разходи'!C65 -> 216 | D17: ='12. Разходи'!D64+'12. Разходи'!D65 -> 360 | E17: ='12. Разходи'!E64+'12. Разходи'!E65 -> 397 | F17: ='12. Разходи'!F64+'12. Разходи'!F65 -> 411 | G17: ='12. Разходи'!G64+'12. Разходи'!G65 -> 411 | H17: ='12. Разходи'!H64+'12. Разходи'!H65 -> 411 | I17: ='12. Разходи'!I64+'12. Разходи'!I65 -> 457 | J17: ='12. Разходи'!J64+'12. Разходи'!J65 -> 15 | ... AD17: ='12. Разходи'!AD64+'12. Разходи'!AD65 -> 11 | AE17: 0 | AF17: 0 | AG17: 0 | AH17: 0 | AI17: 0 | AJ17: 0 | AK17: 0 | AL17: 0 | AM17: 0 | AN17: 0 | AO17: 0 | AP17: 0 | AQ17: 0 | AR17: 0 | AS17: =C17+J17+Q17+X17+AE17+AL17 -> 251 | AT17: =D17+K17+R17+Y17+AF17+AM17 -> 431 | AU17: =E17+L17+S17+Z17+AG17+AN17 -> 478 | AV17: =F17+M17+T17+AA17+AH17+AO17 -> 497 | AW17: =G17+N17+U17+AB17+AI17+AP17 -> 506 | AX17: =H17+O17+V17+AC17+AJ17+AQ17 -> 512 | AY17: =I17+P17+W17+AD17+AK17+AR17 -> 561
A18: 2.4 | B18: Капитализирани разходи за възнаграждения, хил.лв. | C18: 0 | D18: 0 | E18: 100 | F18: 100 | G18: 100 | H18: 100 | I18: 100 | J18: 0 | K18: 0 | L18: 0 | M18: 0 | N18: 0 | O18: 0 | P18: 0 | Q18: 0 | R18: 0 | S18: 0 | T18: 0 | U18: 0 | V18: 0 | W18: 0 | X18: 0 | Y18: 0 | Z18: 0 | AA18: 0 | AB18: 0 | AC18: 0 | AD18: 0 | AE18: 0 | AF18: 0 | AG18: 0 | AH18: 0 | AI18: 0 | AJ18: 0 | AK18: 0 | AL18: 0 | AM18: 0 | AN18: 0 | AO18: 0 | AP18: 0 | AQ18: 0 | AR18: 0 | AS18: =C18+J18+Q18+X18+AE18+AL18 -> 0 | AT18: =D18+K18+R18+Y18+AF18+AM18 -> 0 | AU18: =E18+L18+S18+Z18+AG18+AN18 -> 100 | AV18: =F18+M18+T18+AA18+AH18+AO18 -> 100 | AW18: =G18+N18+U18+AB18+AI18+AP18 -> 100 | AX18: =H18+O18+V18+AC18+AJ18+AQ18 -> 100 | AY18: =I18+P18+W18+AD18+AK18+AR18 -> 100
A19: 2.5 | B19: Капитализирани разходи за социални осигуровки, хил.лв. | C19: 0 | D19: 0 | E19: 18 | F19: 18 | G19: 18 | H19: 18 | I19: 18 | J19: 0 | K19: 0 | L19: 0 | M19: 0 | N19: 0 | O19: 0 | P19: 0 | Q19: 0 | R19: 0 | S19: 0 | T19: 0 | U19: 0 | V19: 0 | W19: 0 | X19: 0 | Y19: 0 | Z19: 0 | AA19: 0 | AB19: 0 | AC19: 0 | AD19: 0 | AE19: 0 | AF19: 0 | AG19: 0 | AH19: 0 | AI19: 0 | AJ19: 0 | AK19: 0 | AL19: 0 | AM19: 0 | AN19: 0 | AO19: 0 | AP19: 0 | AQ19: 0 | AR19: 0 | AS19: =C19+J19+Q19+X19+AE19+AL19 -> 0 | AT19: =D19+K19+R19+Y19+AF19+AM19 -> 0 | AU19: =E19+L19+S19+Z19+AG19+AN19 -> 18 | AV19: =F19+M19+T19+AA19+AH19+AO19 -> 18 | AW19: =G19+N19+U19+AB19+AI19+AP19 -> 18 | AX19: =H19+O19+V19+AC19+AJ19+AQ19 -> 18 | AY19: =I19+P19+W19+AD19+AK19+AR19 -> 18
A20: 2.6 | B20: Капитализирани социални разходи, хил.лв. | C20: 0 | D20: 0 | E20: 8 | F20: 8 | G20: 8 | H20: 8 | I20: 8 | J20: 0 | K20: 0 | L20: 0 | M20: 0 | N20: 0 | O20: 0 | P20: 0 | Q20: 0 | R20: 0 | S20: 0 | T20: 0 | U20: 0 | V20: 0 | W20: 0 | X20: 0 | Y20: 0 | Z20: 0 | AA20: 0 | AB20: 0 | AC20: 0 | AD20: 0 | AE20: 0 | AF20: 0 | AG20: 0 | AH20: 0 | AI20: 0 | AJ20: 0 | AK20: 0 | AL20: 0 | AM20: 0 | AN20: 0 | AO20: 0 | AP20: 0 | AQ20: 0 | AR20: 0 | AS20: =C20+J20+Q20+X20+AE20+AL20 -> 0 | AT20: =D20+K20+R20+Y20+AF20+AM20 -> 0 | AU20: =E20+L20+S20+Z20+AG20+AN20 -> 8 | AV20: =F20+M20+T20+AA20+AH20+AO20 -> 8 | AW20: =G20+N20+U20+AB20+AI20+AP20 -> 8 | AX20: =H20+O20+V20+AC20+AJ20+AQ20 -> 8 | AY20: =I20+P20+W20+AD20+AK20+AR20 -> 8
A21: 3.1 | B21: Разходи за възнаграждения за персонал на пълна заетост на база щатно разписание, хил.лв. | C21: =SUM(C22:C28) -> 3961 | D21: =SUM(D22:D28) -> 4647 | E21: =SUM(E22:E28) -> 6245 | F21: =SUM(F22:F28) -> 6475 | G21: =SUM(G22:G28) -> 6475 | H21: =SUM(H22:H28) -> 6475 | I21: =SUM(I22:I28) -> 7202 | J21: =SUM(J22:J28) -> 465 | ... AY21: =SUM(AY22:AY28) -> 8853.04
A22: 3.2 | B22: Разходи за основна заплата | C22: 2066 | D22: 2339 | E22: 3246 | F22: 3359 | G22: 3359 | H22: 3359 | I22: 3737 | J22: 228 | K22: 238 | L22: 244 | M22: 244 | N22: 268 | O22: 268 | P22: 301 | Q22: 147 | R22: 149 | S22: 333 | T22: 371 | U22: 418 | V22: 439 | W22: 439 | X22: 53 | Y22: 68 | Z22: 69 | AA22: 70 | AB22: 71 | AC22: 72 | AD22: 73 | AE22: 0 | AF22: 4 | AG22: 4 | AH22: 4 | AI22: 4 | AJ22: 4 | AK22: 4 | AL22: 17 | AM22: 15 | AN22: 15 | AO22: 15 | AP22: 15 | AQ22: 15 | AR22: 15 | AS22: =C22+J22+Q22+X22+AE22+AL22 -> 2511 | AT22: =D22+K22+R22+Y22+AF22+AM22 -> 2813 | AU22: =E22+L22+S22+Z22+AG22+AN22 -> 3911 | AV22: =F22+M22+T22+AA22+AH22+AO22 -> 4063 | AW22: =G22+N22+U22+AB22+AI22+AP22 -> 4135 | AX22: =H22+O22+V22+AC22+AJ22+AQ22 -> 4157 | AY22: =I22+P22+W22+AD22+AK22+AR22 -> 4569
A23: 3.3 | B23: Разходи за възнаграждения над основната заплата (наднормено и премии) | C23: 0 | D23: 0 | E23: 0 | F23: 0 | G23: 0 | H23: 0 | I23: 0 | X23: 0 | Y23: 0 | Z23: 0 | AA23: 0 | AB23: 0 | AC23: 0 | AD23: 0 | AE23: 0 | AF23: 0 | AG23: 0 | AH23: 0 | AI23: 0 | AJ23: 0 | AK23: 0 | AL23: 0 | AM23: 0 | AN23: 0 | AO23: 0 | AP23: 0 | AQ23: 0 | AR23: 0 | AS23: =C23+J23+Q23+X23+AE23+AL23 -> 0 | AT23: =D23+K23+R23+Y23+AF23+AM23 -> 0 | AU23: =E23+L23+S23+Z23+AG23+AN23 -> 0 | AV23: =F23+M23+T23+AA23+AH23+AO23 -> 0 | AW23: =G23+N23+U23+AB23+AI23+AP23 -> 0 | AX23: =H23+O23+V23+AC23+AJ23+AQ23 -> 0 | AY23: =I23+P23+W23+AD23+AK23+AR23 -> 0
A24: 3.4 | B24: Възнаграждения за платен отпуск | C24: 254 | D24: 288 | E24: 400 | F24: 408 | G24: 408 | H24: 408 | I24: 429 | J24: 3 | K24: 4 | L24: 5 | M24: 5 | N24: 9 | O24: 9 | P24: 10 | Q24: 18 | R24: 18 | S24: 26 | T24: 29 | U24: 35 | V24: 46 | W24: 46 | X24: 4 | Y24: 5 | Z24: 7 | AA24: 7 | AB24: 8 | AC24: 8 | AD24: 8 | AE24: 0 | AF24: 0 | AG24: 0 | AH24: 0 | AI24: 0 | AJ24: 0 | AK24: 0 | AL24: 1 | AM24: 1 | AN24: 1 | AO24: 1 | AP24: 1 | AQ24: 1 | AR24: 1 | AS24: =C24+J24+Q24+X24+AE24+AL24 -> 280 | AT24: =D24+K24+R24+Y24+AF24+AM24 -> 316 | AU24: =E24+L24+S24+Z24+AG24+AN24 -> 439 | AV24: =F24+M24+T24+AA24+AH24+AO24 -> 450 | AW24: =G24+N24+U24+AB24+AI24+AP24 -> 461 | AX24: =H24+O24+V24+AC24+AJ24+AQ24 -> 472 | AY24: =I24+P24+W24+AD24+AK24+AR24 -> 494
A25: 3.5 | B25: Допълнителни и други възнаграждения (нощен труд, професионален стаж, извънреден труд, други) | C25: 763 | D25: 863 | E25: 1158 | F25: 1200 | G25: 1200 | H25: 1200 | I25: 1352 | J25: 118 | K25: 126 | L25: 124 | M25: 124 | N25: 132 | O25: 132 | P25: 125 | Q25: 61 | R25: 61 | S25: 137 | T25: 154 | U25: 174 | V25: 222 | W25: 222 | X25: 25 | Y25: 32 | Z25: 24 | AA25: 24 | AB25: 23 | AC25: 23 | AD25: 23 | AE25: 0 | AF25: 0 | AG25: 0 | AH25: 0 | AI25: 0 | AJ25: 0 | AK25: 0 | AL25: 4 | AM25: 2 | AN25: 6 | AO25: 6 | AP25: 6 | AQ25: 6 | AR25: 6 | AS25: =C25+J25+Q25+X25+AE25+AL25 -> 971 | AT25: =D25+K25+R25+Y25+AF25+AM25 -> 1084 | AU25: =E25+L25+S25+Z25+AG25+AN25 -> 1449 | AV25: =F25+M25+T25+AA25+AH25+AO25 -> 1508 | AW25: =G25+N25+U25+AB25+AI25+AP25 -> 1535 | AX25: =H25+O25+V25+AC25+AJ25+AQ25 -> 1583 | AY25: =I25+P25+W25+AD25+AK25+AR25 -> 1728
A26: 3.6 | B26: Обезщетения по КТ, ЗДС и КСО | C26: 95 | D26: 108 | E26: 151 | F26: 172 | G26: 172 | H26: 172 | I26: 198 | J26: 2 | K26: 2 | L26: 3 | M26: 3 | N26: 4 | O26: 4 | P26: 5 | Q26: 1 | R26: 1 | S26: 14 | T26: 16 | U26: 18 | V26: 24 | W26: 24 | X26: 1 | Y26: 1 | Z26: 2 | AA26: 2 | AB26: 3 | AC26: 3 | AD26: 3 | AE26: 0 | AF26: 0 | AG26: 0 | AH26: 0 | AI26: 0 | AJ26: 0 | AK26: 0 | AL26: 1 | AM26: 1 | AN26: 1 | AO26: 1 | AP26: 1 | AQ26: 1 | AR26: 1 | AS26: =C26+J26+Q26+X26+AE26+AL26 -> 100 | AT26: =D26+K26+R26+Y26+AF26+AM26 -> 113 | AU26: =E26+L26+S26+Z26+AG26+AN26 -> 171 | AV26: =F26+M26+T26+AA26+AH26+AO26 -> 194 | AW26: =G26+N26+U26+AB26+AI26+AP26 -> 198 | AX26: =H26+O26+V26+AC26+AJ26+AQ26 -> 204 | AY26: =I26+P26+W26+AD26+AK26+AR26 -> 231
A27: 3.7 | B27: Социални и здравни осигуровки | C27: 567 | D27: 689 | E27: 893 | F27: 925 | G27: 925 | H27: 925 | I27: 1029 | J27: 99 | K27: 80 | L27: 68 | M27: 68 | N27: 74 | O27: 74 | P27: 79 | Q27: 46 | R27: 44 | S27: 92 | T27: 103 | U27: 116 | V27: 132 | W27: 132 | X27: 17 | Y27: 21 | Z27: 23 | AA27: 23 | AB27: 23 | AC27: 24 | AD27: 24 | AE27: 0 | AF27: 1 | AG27: 0.72 | AH27: 0.72 | AI27: 0.72 | AJ27: 0.72 | AK27: 0.72 | AL27: 3 | AM27: 3 | AN27: 3 | AO27: 3 | AP27: 3 | AQ27: 3 | AR27: 3 | AS27: =C27+J27+Q27+X27+AE27+AL27 -> 732 | AT27: =D27+K27+R27+Y27+AF27+AM27 -> 838 | AU27: =E27+L27+S27+Z27+AG27+AN27 -> 1079.72 | AV27: =F27+M27+T27+AA27+AH27+AO27 -> 1122.72 | AW27: =G27+N27+U27+AB27+AI27+AP27 -> 1141.72 | AX27: =H27+O27+V27+AC27+AJ27+AQ27 -> 1158.72 | AY27: =I27+P27+W27+AD27+AK27+AR27 -> 1267.72
A28: 3.8 | B28: Други социални разходи и надбавки | C28: 216 | D28: 360 | E28: 397 | F28: 411 | G28: 411 | H28: 411 | I28: 457 | J28: 15 | K28: 37 | L28: 30 | M28: 30 | N28: 33 | O28: 33 | P28: 35 | Q28: 14 | R28: 23 | S28: 41 | T28: 46 | U28: 52 | V28: 58 | W28: 58 | X28: 6 | Y28: 11 | Z28: 10 | AA28: 10 | AB28: 10 | AC28: 10 | AD28: 11 | AE28: 0 | AF28: 0.32 | AG28: 0.32 | AH28: 0.32 | AI28: 0.32 | AJ28: 0.32 | AK28: 0.32 | AL28: 2 | AM28: 2 | AN28: 2 | AO28: 2 | AP28: 2 | AQ28: 2 | AR28: 2 | AS28: =C28+J28+Q28+X28+AE28+AL28 -> 253 | AT28: =D28+K28+R28+Y28+AF28+AM28 -> 433.32 | AU28: =E28+L28+S28+Z28+AG28+AN28 -> 480.32 | AV28: =F28+M28+T28+AA28+AH28+AO28 -> 499.32 | AW28: =G28+N28+U28+AB28+AI28+AP28 -> 508.32 | AX28: =H28+O28+V28+AC28+AJ28+AQ28 -> 514.32 | AY28: =I28+P28+W28+AD28+AK28+AR28 -> 563.32
