Workbook

Sheet 0300
B3: БЮДЖЕТ НА МИНИСТЕРСКИЯ СЪВЕТ ЗА 2025 ГОДИНА
A5: № | B5: ПОКАЗАТЕЛИ | C5: СУМА
C6: (хил. лв.)
B7: 1 | C7: 2
A8: I. | B8: ПРИХОДИ, ПОМОЩИ И ДАРЕНИЯ | C8: 13407.3
A9: 1. | B9: Неданъчни приходи | C9: 13407.3
A10: 1.1. | B10: Държавни такси | C10: 760.2
A11: 1.2. | B11: Приходи и доходи от собственост | C11: 7955.8
A12: 1.3. | B12: Други приходи | C12: 4691.3
A13: II. | B13: РАЗХОДИ | C13: 243829.5
A14: 1. | B14: Текущи разходи | C14: 206754.3
B15: в т.ч.
A16: 1.1. | B16: Персонал | C16: 98736
A17: 1.2. | B17: Субсидии и други текущи трансфери | C17: 78454.1
A18: 1.2.1. | B18: Субсидии и други текущи трансфери за юридически лица с нестопанска цел | C18: 78454.1
A19: 1.3. | B19: Текущи трансфери, обезщетения и помощи за домакинствата | C19: 433.9
A20: 2. | B20: Капиталови разходи | C20: 37075.2
A21: 2.1. | B21: Придобиване на дълготрайни активи и основен ремонт | C21: 37075.2
A22: III. | B22: БЮДЖЕТНИ ВЗАИМООТНОШЕНИЯ (ТРАНСФЕРИ) - (+/-) | C22: 230422.2
A23: 1. | B23: Бюджетно взаимоотношение с централния бюджет (+/-) | C23: 230422.2
A24: IV. | B24: БЮДЖЕТНО САЛДО (І-ІІ+ІІІ) | C24: 0
A25: V. | B25: ОПЕРАЦИИ В ЧАСТТА НА ФИНАНСИРАНЕТО - НЕТО | C25: 0

Sheet Политики-Програми
B4: Разпределение на разходите по области на политики и бюджетни програми за 2025 г. на Министерския съвет
B8: Разходи по области на политики и бюджетни програми
B9: Класификационен код съгласно РМС № 780 от 2023 г. | C9: Наименование на областта на политика/бюджетната програма | D9: Сума
D10: (в лева)
B12: 0300.01.00 | C12: Област „Осигуряване дейността и организацията на работата на Министерския съвет“ | D12: =+D13+D14 -> 22052000
B13: 0300.01.01 | C13: Бюджетна програма „Министерски съвет и организация на дейността му“ | D13: =+Програми!C20 -> 11679000
B14: 0300.01.02 | C14: Бюджетна програма „Координация и мониторинг на хоризонтални политики“ | D14: =+Програми!C39 -> 10373000
B15: 0300.02.00 | C15: Политика в областта на управлението на средствата от ЕС | D15: =+D16 -> 501800
B16: 0300.02.01 | C16: Бюджетна програма „Координация при управление на средствата от ЕС“ | D16: =+Програми!C55 -> 501800
B17: 0300.03.00 | C17: Политика в областта на осъществяването на държавните функции на територията на областите в България | D17: =+D18 -> 72493600
B18: 0300.03.01 | C18: Бюджетна програма „Осъществяване на държавната политика на областно ниво“ | D18: =+Програми!C78 -> 72493600
B19: 0300.04.00 | C19: Политика в областта на правото на вероизповедание | D19: =+D20 -> 78368600
B20: 0300.04.01 | C20: Бюджетна програма „Вероизповедания“ | D20: =+Програми!C95 -> 78368600
B21: 0300.05.00 | C21: Политика в областта на архивното дело | D21: =+D22 -> 13746700
B22: 0300.05.01 | C22: Бюджетна програма „Национален архивен фонд“ | D22: =+Програми!C111 -> 13746700
B23: 0300.06.00 | C23: Бюджетна програма „Администрация“ | D23: =+Програми!C129 -> 14832900
B24: 0300.07.00 | C24: Други бюджетни програми | D24: =+D25+D26 -> 41833900
B25: 0300.07.01 | C25: Бюджетна програма „Други дейности и услуги“ | D25: =+Програми!C145 -> 25430000
B26: 0300.07.02 | C26: Бюджетна програма „Убежище и бежанци“ | D26: =+Програми!C162 -> 16403900
C28: Общо: | D28: =+D12+D15+D17+D19+D21+D23+D24 -> 243829500
B30: ПОКАЗАТЕЛИ | D30: Сума (в лева)
B31: 1. Максимален размер на ангажиментите за разходи, които могат да бъдат поети през 2025 г. | D31: 141077400
B33: 2. Максимален размер на новите задължения за разходи, които могат да бъдат натрупани през 2025 г. | D33: 141077400

Sheet Програми
B2: Разпределение на ведомствените и администрираните разходи по бюджетни програми по бюджета на МИНИСТЕРСКИЯ СЪВЕТ за 2025 г.
B6: Класификационен код на програмата: 0300.01.01
B7: Бюджетна програма „Министерски съвет и организация на дейността му“
B8: (наименование)
B9: Разходи по програмата | C9: Сума
C10: (в лева)
B11: I. Общо ведомствени разходи | C11: =SUM(C13:C15) -> 11679000
B12: от тях за:
B13: Персонал | C13: 10837500
B14: Издръжка | C14: 841500
B15: Капиталови разходи
B17: II. Администрирани разходни параграфи по бюджета
B18: от тях за:
B20: ІІІ. Общо разходи (I+II) | C20: =+C11+C17 -> 11679000
B22: Класификационен код на програмата: 0300.01.02
B23: Бюджетна програма „Координация и мониторинг на хоризонтални политики“
B24: (наименование)
B25: Разходи по програмата | C25: Сума
C26: (в лева)
B27: I. Общо ведомствени разходи | C27: =SUM(C29:C31) -> 9803000
B28: от тях за:
B29: Персонал | C29: 7780200
B30: Издръжка | C30: 1833000
B31: Капиталови разходи | C31: 189800
B33: II. Администрирани разходни параграфи по бюджета | C33: =+C35+C36+C37 -> 570000
B34: от тях за:
B36: 1. Субсидии за финансиране на проекти по чл. 6е от Закона за защита от домашното насилие - § 45-00 "Субсидии и други текущи трансфери за юридически лица с нестопанска цел" | C36: 450000
B37: 2. Вноска на Република България за участие в Глобалната инициатива „Партньорство за открито управление“ - § 46-00 "Разходи за членски внос и участие в нетърговски организации и дейности" | C37: 120000
B39: ІІІ. Общо разходи (I+II) | C39: =+C33+C27 -> 10373000
B41: Класификационен код на програмата: 0300.02.01
B42: Бюджетна програма „Координация при управление на средствата от ЕС“
B43: (наименование)
B44: Разходи по програмата | C44: Сума
C45: (в лева)
B46: I. Общо ведомствени разходи | C46: =SUM(C48:C50) -> 501800
B47: от тях за:
B48: Персонал | C48: 443300
B49: Издръжка | C49: 58500
B50: Капиталови разходи
B52: II. Администрирани разходни параграфи по бюджета
B53: от тях за:
B55: ІІІ. Общо разходи (I+II) | C55: =+C46+C52 -> 501800
B57: Класификационен код на програмата: 0300.03.01
B58: Бюджетна програма „Осъществяване на държавната политика на областно ниво“
B59: (наименование)
B60: Разходи по програмата | C60: Сума
C61: (в лева)
B62: I. Общо ведомствени разходи | C62: =SUM(C64:C66) -> 50458700
B63: от тях за:
B64: Персонал | C64: 36022900
B65: Издръжка | C65: 9701600
B66: Капиталови разходи | C66: 4734200
B68: II. Администрирани разходни параграфи по бюджета | C68: =SUM(C70:C76) -> 22034900
B69: от тях за:
B70: 1. Изработване на кадастрални планове по § 4 от ПЗР на Закона за собствеността и ползването на земеделските земи - § 10-00 "Издръжка" | C70: 300300
B71: 2. Провеждане на национален туристически поход "По пътя на Ботевата чета", Козлодуй - Околчица и честване на Шипченските боеве - § 10-00 "Издръжка" | C71: 165000
B72: 3. За изпълнение на ангажиментите на областните управители на областите Бургас, Варна и Добрич по Закона за устройството на Черноморското крайбрежие през активния летен сезон - § 10-00 "Издръжка" | C72: 837500
B73: 4. Обезщетения по Закона за политическа и гражданска реабилитация на репресирани лица - § 42-00 "Текущи трансфери, обезщетения и помощи за домакинствата" | C73: 23900
B74: 5. За изпълнение на ангажиментите на областните управители на областите Бургас, Варна и Добрич по чл. 7, ал. 11 и ал. 12 от Закона за устройството на Черноморското крайбрежие - § 51-00 "Основен ремонт на дълготрайни материални активи" и § 52-00 "Придобиване на дълготрайни материални активи" | C74: =18316200-399600+2260000 -> 20176600
B75: 6. Изграждане на ГКПП - § 02-00 "Други възнаграждения и плащания за персонала" и § 10-00 "Издръжка" | C75: =108900+23100 -> 132000
B76: 7. Консервация, реставрация и аварийно укрепване на част от „Крепостни стени на турско кале“, град Видин - § 51-00 "Основен ремонт на дълготрайни материални активи" | C76: 399600
B78: ІІІ. Общо разходи (I+II) | C78: =+C68+C62 -> 72493600
B80: Класификационен код на програмата: 0300.04.01
B81: Бюджетна програма „Вероизповедания“
B82: (наименование)
B83: Разходи по програмата | C83: Сума
C84: (в лева)
B85: I. Общо ведомствени разходи | C85: =SUM(C87:C89) -> 364500
B86: от тях за:
B87: Персонал | C87: 340200
B88: Издръжка | C88: 24300
B89: Капиталови разходи
B91: II. Администрирани разходни параграфи по бюджета | C91: =+C93 -> 78004100
B92: от тях за:
B93: 1. Субсидии за вероизповеданията, регистрирани по Закона за вероизповеданията - § 45-00 "Субсидии и други текущи трансфери за юридически лица с нестопанска цел" | C93: 78004100
B95: ІІІ. Общо разходи (I+II) | C95: =+C85+C91 -> 78368600
B97: Класификационен код на програмата: 0300.05.01
B98: Бюджетна програма „Национален архивен фонд“
B99: (наименование)
B100: Разходи по програмата | C100: Сума
C101: (в лева)
B102: I. Общо ведомствени разходи | C102: =SUM(C104:C106) -> 13746700
B103: от тях за:
B104: Персонал | C104: 11517500
B105: Издръжка | C105: 1289000
B106: Капиталови разходи | C106: 940200
B108: II. Администрирани разходни параграфи по бюджета
B109: от тях за:
B111: ІІІ. Общо разходи (I+II) | C111: =+C102+C108 -> 13746700
B114: Класификационен код на програмата: 0300.06.00
B115: Бюджетна програма „Администрация“
B116: (наименование)
B117: Разходи по програмата | C117: Сума
C118: (в лева)
B119: I. Общо ведомствени разходи | C119: =SUM(C121:C123) -> 14822900
B120: от тях за:
B121: Персонал | C121: 9645300
B122: Издръжка | C122: 4952600
B123: Капиталови разходи | C123: 225000
B125: II. Администрирани разходни параграфи по бюджета | C125: =+C127 -> 10000
...
